BEGIN:VCALENDAR
VERSION:2.0
PRODID:-//Silver Spur Resort - ECPv6.2.5//NONSGML v1.0//EN
CALSCALE:GREGORIAN
METHOD:PUBLISH
X-WR-CALNAME:Silver Spur Resort
X-ORIGINAL-URL:https://thesilverspurresort.com
X-WR-CALDESC:Events for Silver Spur Resort
REFRESH-INTERVAL;VALUE=DURATION:PT1H
X-Robots-Tag:noindex
X-PUBLISHED-TTL:PT1H
BEGIN:VTIMEZONE
TZID:America/New_York
BEGIN:DAYLIGHT
TZOFFSETFROM:-0500
TZOFFSETTO:-0400
TZNAME:EDT
DTSTART:20230312T070000
END:DAYLIGHT
BEGIN:STANDARD
TZOFFSETFROM:-0400
TZOFFSETTO:-0500
TZNAME:EST
DTSTART:20231105T060000
END:STANDARD
BEGIN:DAYLIGHT
TZOFFSETFROM:-0500
TZOFFSETTO:-0400
TZNAME:EDT
DTSTART:20240310T070000
END:DAYLIGHT
BEGIN:STANDARD
TZOFFSETFROM:-0400
TZOFFSETTO:-0500
TZNAME:EST
DTSTART:20241103T060000
END:STANDARD
BEGIN:DAYLIGHT
TZOFFSETFROM:-0500
TZOFFSETTO:-0400
TZNAME:EDT
DTSTART:20250309T070000
END:DAYLIGHT
BEGIN:STANDARD
TZOFFSETFROM:-0400
TZOFFSETTO:-0500
TZNAME:EST
DTSTART:20251102T060000
END:STANDARD
END:VTIMEZONE
BEGIN:VEVENT
DTSTART;TZID=America/New_York:20250503T180000
DTEND;TZID=America/New_York:20250503T210000
DTSTAMP:20260421T091253
CREATED:20250204T013555Z
LAST-MODIFIED:20250204T013555Z
UID:10000628-1746295200-1746306000@thesilverspurresort.com
SUMMARY:Live Music- Jeremy Bellamy
DESCRIPTION:Join us on the Q & Brew patio on Saturday\, May 3rd from 6-9 pm for an evening of live music with Jeremy Bellamy! Grab some food\, your favorite drinks at the bar\, and stay awhile! \nAxe throwing is available outside the Q & Brew patio and makes for a fun night of entertainment with family and friends. Make your reservations by calling 903-567-8250. We take walk-ins if available- just see our team at the Q for help!
URL:https://thesilverspurresort.com/event/live-music-jeremy-bellamy-3/
LOCATION:Q & Brew at the Silver Spur Resort\, 13785 SH19\, Canton\, TX\, 75103\, United States
CATEGORIES:music
END:VEVENT
BEGIN:VEVENT
DTSTART;TZID=America/New_York:20250419T180000
DTEND;TZID=America/New_York:20250419T210000
DTSTAMP:20260421T091253
CREATED:20250204T012648Z
LAST-MODIFIED:20250204T012648Z
UID:10000625-1745085600-1745096400@thesilverspurresort.com
SUMMARY:Live Music- Roy Bilberry
DESCRIPTION:Join us on the Q & Brew patio on Saturday\, April 19th from 6-9 pm for an evening of live music with Roy Bilberry! Grab some food\, your favorite drinks at the bar\, and stay awhile! \nAxe throwing is available outside the Q & Brew patio and makes for a fun night of entertainment with family and friends. Make your reservations by calling 903-567-8250. We take walk-ins if available- just see our team at the Q for help!
URL:https://thesilverspurresort.com/event/live-music-roy-bilberry-14/
LOCATION:Q & Brew at the Silver Spur Resort\, 13785 SH19\, Canton\, TX\, 75103\, United States
CATEGORIES:music
END:VEVENT
BEGIN:VEVENT
DTSTART;TZID=America/New_York:20250412T180000
DTEND;TZID=America/New_York:20250412T210000
DTSTAMP:20260421T091253
CREATED:20250204T013313Z
LAST-MODIFIED:20250204T013313Z
UID:10000627-1744480800-1744491600@thesilverspurresort.com
SUMMARY:Live Music- Jeremy Bellamy
DESCRIPTION:Join us on the Q & Brew patio on Saturday\, April 12th from 6-9 pm for an evening of live music with Jeremy Bellamy! Grab some food\, your favorite drinks at the bar\, and stay awhile! \nAxe throwing is available outside the Q & Brew patio and makes for a fun night of entertainment with family and friends. Make your reservations by calling 903-567-8250. We take walk-ins if available- just see our team at the Q for help!
URL:https://thesilverspurresort.com/event/live-music-jeremy-bellamy-2/
LOCATION:Q & Brew at the Silver Spur Resort\, 13785 SH19\, Canton\, TX\, 75103\, United States
CATEGORIES:music
END:VEVENT
BEGIN:VEVENT
DTSTART;TZID=America/New_York:20250405T180000
DTEND;TZID=America/New_York:20250405T210000
DTSTAMP:20260421T091253
CREATED:20250204T012502Z
LAST-MODIFIED:20250204T012502Z
UID:10000624-1743876000-1743886800@thesilverspurresort.com
SUMMARY:Live Music- Roy Bilberry
DESCRIPTION:Join us on the Q & Brew patio on Saturday\, April 5th from 6-9 pm for an evening of live music with Roy Bilberry! Grab some food\, your favorite drinks at the bar\, and stay awhile! \nAxe throwing is available outside the Q & Brew patio and makes for a fun night of entertainment with family and friends. Make your reservations by calling 903-567-8250. We take walk-ins if available- just see our team at the Q for help!
URL:https://thesilverspurresort.com/event/live-music-roy-bilberry-13/
LOCATION:Q & Brew at the Silver Spur Resort\, 13785 SH19\, Canton\, TX\, 75103\, United States
CATEGORIES:music
END:VEVENT
BEGIN:VEVENT
DTSTART;TZID=America/New_York:20250404T180000
DTEND;TZID=America/New_York:20250404T210000
DTSTAMP:20260421T091253
CREATED:20250204T013808Z
LAST-MODIFIED:20250204T013808Z
UID:10000629-1743789600-1743800400@thesilverspurresort.com
SUMMARY:Live Music- James Cooley
DESCRIPTION:Join us on the Q & Brew patio on Friday\, April 4th from 6-9 pm for an evening of live music with James Cooley! Grab some food\, your favorite drinks at the bar\, and stay awhile! \nAxe throwing is available outside the Q & Brew patio and makes for a fun night of entertainment with family and friends. Make your reservations by calling 903-567-8250. We take walk-ins if available- just see our team at the Q for help!
URL:https://thesilverspurresort.com/event/live-music-james-cooley-2/
LOCATION:Q & Brew at the Silver Spur Resort\, 13785 SH19\, Canton\, TX\, 75103\, United States
CATEGORIES:music
END:VEVENT
BEGIN:VEVENT
DTSTART;TZID=America/New_York:20250322T180000
DTEND;TZID=America/New_York:20250322T210000
DTSTAMP:20260421T091253
CREATED:20250204T012304Z
LAST-MODIFIED:20250204T012304Z
UID:10000623-1742666400-1742677200@thesilverspurresort.com
SUMMARY:Live Music- Roy Bilberry
DESCRIPTION:Join us on the Q & Brew patio on Saturday\, March 22nd from 6-9 pm for an evening of live music with Roy Bilberry! Grab some food\, your favorite drinks at the bar\, and stay awhile! \nAxe throwing is available outside the Q & Brew patio and makes for a fun night of entertainment with family and friends. Make your reservations by calling 903-567-8250. We take walk-ins if available- just see our team at the Q for help!
URL:https://thesilverspurresort.com/event/live-music-roy-bilberry-12/
LOCATION:Q & Brew at the Silver Spur Resort\, 13785 SH19\, Canton\, TX\, 75103\, United States
CATEGORIES:music
END:VEVENT
BEGIN:VEVENT
DTSTART;TZID=America/New_York:20250315T180000
DTEND;TZID=America/New_York:20250315T200000
DTSTAMP:20260421T091253
CREATED:20250309T182513Z
LAST-MODIFIED:20250309T183354Z
UID:10000651-1742061600-1742068800@thesilverspurresort.com
SUMMARY:Live Music- Owen Tiner
DESCRIPTION:Join us on the Q & Brew patio on Saturday\, March 15th from 6-8 pm for an evening of live music with Owen Tiner! Grab some food\, your favorite drinks at the bar\, and stay awhile! \nAxe throwing is available outside the Q & Brew patio and makes for a fun night of entertainment with family and friends. Make your reservations by calling 903-567-8250. We take walk-ins if available- just see our team at the Q for help!
URL:https://thesilverspurresort.com/event/live-music-owen-tiner-9/
LOCATION:Q & Brew at the Silver Spur Resort\, 13785 SH19\, Canton\, TX\, 75103\, United States
CATEGORIES:music
END:VEVENT
BEGIN:VEVENT
DTSTART;TZID=America/New_York:20250308T180000
DTEND;TZID=America/New_York:20250308T210000
DTSTAMP:20260421T091253
CREATED:20250204T013122Z
LAST-MODIFIED:20250204T013122Z
UID:10000626-1741456800-1741467600@thesilverspurresort.com
SUMMARY:Live Music- Jeremy Bellamy
DESCRIPTION:Join us on the Q & Brew patio on Saturday\, March 8th from 6-9 pm for an evening of live music with Jeremy Bellamy! Grab some food\, your favorite drinks at the bar\, and stay awhile! \nAxe throwing is available outside the Q & Brew patio and makes for a fun night of entertainment with family and friends. Make your reservations by calling 903-567-8250. We take walk-ins if available- just see our team at the Q for help!
URL:https://thesilverspurresort.com/event/live-music-jeremy-bellamy/
LOCATION:Q & Brew at the Silver Spur Resort\, 13785 SH19\, Canton\, TX\, 75103\, United States
CATEGORIES:music
END:VEVENT
BEGIN:VEVENT
DTSTART;TZID=America/New_York:20250301T180000
DTEND;TZID=America/New_York:20250301T210000
DTSTAMP:20260421T091253
CREATED:20250204T012044Z
LAST-MODIFIED:20250204T012044Z
UID:10000622-1740852000-1740862800@thesilverspurresort.com
SUMMARY:Live Music- Roy Bilberry
DESCRIPTION:Join us on the Q & Brew patio on Saturday\, March 1st from 6-9 pm for an evening of live music with Roy Bilberry! Grab some food\, your favorite drinks at the bar\, and stay awhile! \nAxe throwing is available outside the Q & Brew patio and makes for a fun night of entertainment with family and friends. Make your reservations by calling 903-567-8250. We take walk-ins if available- just see our team at the Q for help!
URL:https://thesilverspurresort.com/event/live-music-roy-bilberry-11/
LOCATION:Q & Brew at the Silver Spur Resort\, 13785 SH19\, Canton\, TX\, 75103\, United States
CATEGORIES:music
END:VEVENT
BEGIN:VEVENT
DTSTART;TZID=America/New_York:20250228T180000
DTEND;TZID=America/New_York:20250228T210000
DTSTAMP:20260421T091253
CREATED:20250204T011526Z
LAST-MODIFIED:20250204T011526Z
UID:10000621-1740765600-1740776400@thesilverspurresort.com
SUMMARY:Live Music- James Cooley
DESCRIPTION:Join us on the Q & Brew patio on Friday\, February 28th from 6-9 pm for an evening of live music with James Cooley! Grab some food\, your favorite drinks at the bar\, and stay awhile! \nAxe throwing is available outside the Q & Brew patio and makes for a fun night of entertainment with family and friends. Make your reservations by calling 903-567-8250. We take walk-ins if available- just see our team at the Q for help!
URL:https://thesilverspurresort.com/event/live-music-james-cooley/
LOCATION:Q & Brew at the Silver Spur Resort\, 13785 SH19\, Canton\, TX\, 75103\, United States
CATEGORIES:music
END:VEVENT
BEGIN:VEVENT
DTSTART;TZID=America/New_York:20241130T180000
DTEND;TZID=America/New_York:20241130T210000
DTSTAMP:20260421T091253
CREATED:20241125T152830Z
LAST-MODIFIED:20241125T152830Z
UID:10000612-1732989600-1733000400@thesilverspurresort.com
SUMMARY:Live Music- Roy Bilberry
DESCRIPTION:Join us on the Q & Brew patio on Saturday\, November 30th from 6-9 pm for an evening of live music with Roy Bilberry! Grab some food\, your favorite drinks at the bar\, and stay awhile! \nAxe throwing is available outside the Q & Brew patio and makes for a fun night of entertainment with family and friends. Make your reservations by calling 903-567-8250. We take walk-ins if available- just see our team at the Q for help!
URL:https://thesilverspurresort.com/event/live-music-roy-bilberry-8/
LOCATION:Q & Brew at the Silver Spur Resort\, 13785 SH19\, Canton\, TX\, 75103\, United States
CATEGORIES:music
END:VEVENT
BEGIN:VEVENT
DTSTART;TZID=America/New_York:20231125T190000
DTEND;TZID=America/New_York:20231125T210000
DTSTAMP:20260421T091253
CREATED:20231109T205430Z
LAST-MODIFIED:20231109T205430Z
UID:10000562-1700938800-1700946000@thesilverspurresort.com
SUMMARY:Live Music: Owen Tiner
DESCRIPTION:Join us on the Q & Brew patio on Saturday\, November 25th from 7-9 pm for an evening of live music with Owen Tiner! Grab some food\, your favorite drinks at the bar\, and stay awhile! \nAxe throwing is available outside the Q & Brew patio and makes for a fun night of entertainment with family and friends. Make your reservations online: https://thesilverspurresort.com/silver-spur-fun/axe-throwing/
URL:https://thesilverspurresort.com/event/live-music-owen-tiner/
LOCATION:Q & Brew at the Silver Spur Resort\, 13785 SH19\, Canton\, TX\, 75103\, United States
CATEGORIES:music
END:VEVENT
BEGIN:VEVENT
DTSTART;TZID=America/New_York:20231111T190000
DTEND;TZID=America/New_York:20231111T210000
DTSTAMP:20260421T091253
CREATED:20231109T205207Z
LAST-MODIFIED:20231109T205207Z
UID:10000561-1699729200-1699736400@thesilverspurresort.com
SUMMARY:Live Music: Jacob Henderson
DESCRIPTION:Join us on the Q & Brew patio on Saturday\, November 11th from 7-9 pm for an evening of live music with Jacob Henderson! Grab some food\, your favorite drinks at the bar\, and stay awhile! \nAxe throwing is available outside the Q & Brew patio and makes for a fun night of entertainment with family and friends. Make your reservations online: https://thesilverspurresort.com/silver-spur-fun/axe-throwing/
URL:https://thesilverspurresort.com/event/live-music-jacob-henderson-3/
LOCATION:Q & Brew at the Silver Spur Resort\, 13785 SH19\, Canton\, TX\, 75103\, United States
CATEGORIES:music
END:VEVENT
BEGIN:VEVENT
DTSTART;TZID=America/New_York:20231104T190000
DTEND;TZID=America/New_York:20231104T210000
DTSTAMP:20260421T091253
CREATED:20231003T190033Z
LAST-MODIFIED:20231004T210550Z
UID:10000554-1699124400-1699131600@thesilverspurresort.com
SUMMARY:Live Music: Tyler Mathews
DESCRIPTION:Join us on the Q & Brew patio on Saturday\, November 4th from 7-9 pm for an evening of live music with Tyler Mathews! Grab some food\, your favorite drinks at the bar\, and stay awhile! \nAxe throwing is available outside the Q & Brew patio and makes for a fun night of entertainment with family and friends. Make your reservations online: https://thesilverspurresort.com/silver-spur-fun/axe-throwing/
URL:https://thesilverspurresort.com/event/live-music-tyler-mathews/
LOCATION:Q & Brew at the Silver Spur Resort\, 13785 SH19\, Canton\, TX\, 75103\, United States
CATEGORIES:music
END:VEVENT
BEGIN:VEVENT
DTSTART;TZID=America/New_York:20231028T190000
DTEND;TZID=America/New_York:20231028T210000
DTSTAMP:20260421T091253
CREATED:20231018T040132Z
LAST-MODIFIED:20231018T182647Z
UID:10000558-1698519600-1698526800@thesilverspurresort.com
SUMMARY:Live Music: Jopi Drew
DESCRIPTION:Join us on the Q & Brew patio on Saturday\, October 28th from 7-9 pm for an evening of live music with Jopi Drew! Grab some food\, your favorite drinks at the bar\, and stay awhile! \nAxe throwing is available outside the Q & Brew patio and makes for a fun night of entertainment with family and friends. Make your reservations online: https://thesilverspurresort.com/silver-spur-fun/axe-throwing/
URL:https://thesilverspurresort.com/event/live-music-jopi-drew-2/
LOCATION:Q & Brew at the Silver Spur Resort\, 13785 SH19\, Canton\, TX\, 75103\, United States
CATEGORIES:music
END:VEVENT
BEGIN:VEVENT
DTSTART;TZID=America/New_York:20231021T190000
DTEND;TZID=America/New_York:20231021T210000
DTSTAMP:20260421T091253
CREATED:20231018T035856Z
LAST-MODIFIED:20231018T035856Z
UID:10000557-1697914800-1697922000@thesilverspurresort.com
SUMMARY:Live Music: Jacob Henderson
DESCRIPTION:Join us on the Q & Brew patio on Saturday\, October 21st from 7-9 pm for an evening of live music with Jacob Henderson! Grab some food\, your favorite drinks at the bar\, and stay awhile! \nAxe throwing is available outside the Q & Brew patio and makes for a fun night of entertainment with family and friends. Make your reservations online: https://thesilverspurresort.com/silver-spur-fun/axe-throwing/
URL:https://thesilverspurresort.com/event/live-music-jacob-henderson-2/
LOCATION:Q & Brew at the Silver Spur Resort\, 13785 SH19\, Canton\, TX\, 75103\, United States
CATEGORIES:music
END:VEVENT
BEGIN:VEVENT
DTSTART;TZID=America/New_York:20231014T123000
DTEND;TZID=America/New_York:20231014T150000
DTSTAMP:20260421T091253
CREATED:20231005T000232Z
LAST-MODIFIED:20231005T000232Z
UID:10000556-1697286600-1697295600@thesilverspurresort.com
SUMMARY:Canton Crossroads Fest
DESCRIPTION:Canton Crossroads Fest\n\nFUN for the family! ☀️\n\n\n\n\nCome out and enjoy a beautiful day of music ranging from southern gospel\, Roots\, and faith country. Everyone is welcome! Show up and support our community together.\n\n\n\nThere is an abundance of space for everyone however there is limited existing seating on site so bring your lawn chairs and blankets \n\n\n\nTake advantage of this opportunity to enjoy an afternoon of Faith Country\, including local live bands; Justin + Kris\, The Boyd’s and Nashville Christian Recording Artists “Jackson Heights” \n\n\n\nEntertainment for the kids. Food and fun for the whole family.\n\n\n\nOctober 14\, 2023 Begins @ 12:30p\n\n\nSilver Spur Resort\n\n\n13785 SH-19\nCanton\, TX 75103\n\n\n\nEntry to the Concert series beginning at 12:30pm is absolutely FREE.
URL:https://thesilverspurresort.com/event/canton-crossroads-fest/
LOCATION:Silver Spur Resort\, 13785 SH19\, Canton\, TX\, 75103\, United States
CATEGORIES:music
END:VEVENT
BEGIN:VEVENT
DTSTART;TZID=America/New_York:20231007T180000
DTEND;TZID=America/New_York:20231007T210000
DTSTAMP:20260421T091253
CREATED:20231003T185751Z
LAST-MODIFIED:20231003T185751Z
UID:10000553-1696701600-1696712400@thesilverspurresort.com
SUMMARY:Live Music: Jopi Drew
DESCRIPTION:Join us on the Q & Brew patio on Saturday\, October 7th from 6-9 pm for an evening of live music with Jopi Drew! Grab some food\, your favorite drinks at the bar\, and stay awhile! \nAxe throwing is available outside the Q & Brew patio and makes for a fun night of entertainment with family and friends. Make your reservations online: https://thesilverspurresort.com/silver-spur-fun/axe-throwing/
URL:https://thesilverspurresort.com/event/live-music-jopi-drew/
LOCATION:Q & Brew at the Silver Spur Resort\, 13785 SH19\, Canton\, TX\, 75103\, United States
CATEGORIES:music
END:VEVENT
BEGIN:VEVENT
DTSTART;TZID=America/New_York:20230930T190000
DTEND;TZID=America/New_York:20230930T210000
DTSTAMP:20260421T091253
CREATED:20230925T211641Z
LAST-MODIFIED:20230925T211718Z
UID:10000548-1696100400-1696107600@thesilverspurresort.com
SUMMARY:Live Music: Roy Lee Bilberry
DESCRIPTION:Join us on the Q & Brew patio on Saturday\, September 30th from 7-9 pm for an evening of live music with Roy Lee Bilberry! Grab some food\, your favorite drinks at the bar\, maybe a little axe throwing\, and stay awhile!
URL:https://thesilverspurresort.com/event/live-music-roy-lee-bilberry-2/
LOCATION:Q & Brew at the Silver Spur Resort\, 13785 SH19\, Canton\, TX\, 75103\, United States
CATEGORIES:music
END:VEVENT
BEGIN:VEVENT
DTSTART;TZID=America/New_York:20230929T190000
DTEND;TZID=America/New_York:20230929T210000
DTSTAMP:20260421T091253
CREATED:20230925T193251Z
LAST-MODIFIED:20230925T193251Z
UID:10000547-1696014000-1696021200@thesilverspurresort.com
SUMMARY:Live Music: Hannah Dot Cook
DESCRIPTION:Join us on the Q & Brew patio on Friday\, September 29th from 7-9 pm for an evening of live music with Hannah Dot Cook!\nGrab some food\, your favorite drinks at the bar\, maybe a little axe throwing\, and stay awhile!
URL:https://thesilverspurresort.com/event/live-music-hannah-dot-cook/
LOCATION:Q & Brew at the Silver Spur Resort\, 13785 SH19\, Canton\, TX\, 75103\, United States
CATEGORIES:music
END:VEVENT
BEGIN:VEVENT
DTSTART;TZID=America/New_York:20230729T190000
DTEND;TZID=America/New_York:20230729T210000
DTSTAMP:20260421T091253
CREATED:20230629T002828Z
LAST-MODIFIED:20230629T002828Z
UID:10000544-1690657200-1690664400@thesilverspurresort.com
SUMMARY:Live Music: Roy Lee Bilberry
DESCRIPTION:Join us on the Q & Brew patio Saturday\, July 29th from 7-9 pm for an evening of live music with Roy Lee Bilberry!\nGrab some food\, your favorite drinks at the bar\, maybe a little axe throwing\, and stay awhile!
URL:https://thesilverspurresort.com/event/live-music-roy-lee-bilberry/
LOCATION:Q & Brew at the Silver Spur Resort\, 13785 SH19\, Canton\, TX\, 75103\, United States
CATEGORIES:music
END:VEVENT
BEGIN:VEVENT
DTSTART;TZID=America/New_York:20230722T190000
DTEND;TZID=America/New_York:20230722T210000
DTSTAMP:20260421T091253
CREATED:20230629T002703Z
LAST-MODIFIED:20230629T002703Z
UID:10000538-1690052400-1690059600@thesilverspurresort.com
SUMMARY:Live Music: Ben Theiring
DESCRIPTION:Join us on the Q & Brew patio Saturday\, July 22nd from 7-9 pm for an evening of live music with Ben Theiring!\nGrab some food\, your favorite drinks at the bar\, maybe a little axe throwing\, and stay awhile!
URL:https://thesilverspurresort.com/event/live-music-ben-theiring/
LOCATION:Q & Brew at the Silver Spur Resort\, 13785 SH19\, Canton\, TX\, 75103\, United States
CATEGORIES:music
END:VEVENT
BEGIN:VEVENT
DTSTART;TZID=America/New_York:20230708T190000
DTEND;TZID=America/New_York:20230708T210000
DTSTAMP:20260421T091253
CREATED:20230629T002539Z
LAST-MODIFIED:20230629T002539Z
UID:10000537-1688842800-1688850000@thesilverspurresort.com
SUMMARY:Live Music: Andy Toole
DESCRIPTION:Join us on the Q & Brew patio Saturday\, July 8th from 7-9 pm for an evening of live music with Andy Toole!\nGrab some food\, your favorite drinks at the bar\, maybe a little axe throwing\, and stay awhile!
URL:https://thesilverspurresort.com/event/live-music-andy-toole/
LOCATION:Q & Brew at the Silver Spur Resort\, 13785 SH19\, Canton\, TX\, 75103\, United States
CATEGORIES:music
END:VEVENT
END:VCALENDAR