BEGIN:VCALENDAR
VERSION:2.0
PRODID:-//Silver Spur Resort - ECPv6.2.5//NONSGML v1.0//EN
CALSCALE:GREGORIAN
METHOD:PUBLISH
X-ORIGINAL-URL:https://thesilverspurresort.com
X-WR-CALDESC:Events for Silver Spur Resort
REFRESH-INTERVAL;VALUE=DURATION:PT1H
X-Robots-Tag:noindex
X-PUBLISHED-TTL:PT1H
BEGIN:VTIMEZONE
TZID:UTC
BEGIN:STANDARD
TZOFFSETFROM:+0000
TZOFFSETTO:+0000
TZNAME:UTC
DTSTART:20200101T000000
END:STANDARD
END:VTIMEZONE
BEGIN:VEVENT
DTSTART;TZID=UTC:20200501T150000
DTEND;TZID=UTC:20200501T210000
DTSTAMP:20260422T153256
CREATED:20200430T224356Z
LAST-MODIFIED:20200430T224356Z
UID:10000460-1588345200-1588366800@thesilverspurresort.com
SUMMARY:Dine-in at the Q & Brew
DESCRIPTION:Join us at the Q & Brew Friday\, May 1st! Our dining room will be open from 3:00 – 9:00 pm! \nWhile our dining room will be open at 25% capacity\, we will also offer appropriately spaced outdoor seating on our patio\, additional seating around the restaurant and outdoor entertainment area\, and family picnic style seating areas. \nWe will be showing a family friendly outdoor movie starting at 8:00pm for those who choose our picnic style seating at that time. Feel free to bring your own lawn chairs and blankets to make your family comfortable during movie time. Social distancing rules apply. Please respect others\, and maintain a distance of 6 feet apart between groups. Our team will be available onsite to provide safety recommendations if needed and ensure that social distancing guidelines are followed. Spaces are limited. Please reserve your family spot with a $10 reservation fee to help us plan. This fee includes a $10 credit towards food & beverage\, available to purchase during that time. \nWe are ready to serve you in whatever capacity you are most comfortable with at this time. Our menu will still be available for take-out and curbside service. \nThank you for your continued support of the Q & Brew. We appreciate your patience during the many changes to our operations during this time. Thank you for your orders\, referrals\, reviews\, shares on social media\, and wonderful messages our team has received. We are so grateful for such an amazing community and look forward to serving you in the dining room again! \n  \n\n \n\nSearching Availability… \n\n\nContinue to Secure Booking System »
URL:https://thesilverspurresort.com/event/dine-in-at-the-q-brew/
LOCATION:TX
ATTACH;FMTTYPE=:
END:VEVENT
BEGIN:VEVENT
DTSTART;TZID=UTC:20200530T183000
DTEND;TZID=UTC:20200530T203000
DTSTAMP:20260422T153256
CREATED:20200304T235614Z
LAST-MODIFIED:20200304T235614Z
UID:10000415-1590863400-1590870600@thesilverspurresort.com
SUMMARY:Chuckwagon Experience
DESCRIPTION:[et_pb_section fb_built=”1″ _builder_version=”4.16″ global_colors_info=””][et_pb_row _builder_version=”4.16″ background_size=”initial” background_position=”top_left” background_repeat=”repeat” global_colors_info=””][et_pb_column type=”4_4″ _builder_version=”4.16″ custom_padding=”|||” global_colors_info=”” custom_padding__hover=”|||”][et_pb_text _builder_version=”4.18.0″ background_size=”initial” background_position=”top_left” background_repeat=”repeat” hover_enabled=”0″ global_colors_info=”” sticky_enabled=”0″]You’re invited to a unique dinner experience at Silver Spur Resort! When the chow bell rings\, you and your fellow pioneers will enjoy a dinner reminiscent of one served around a campfire over a century ago. Grab a tin plate and head through the chuckwagon line where you’ll be served tender BBQ chicken\, baby back ribs\, potato salad\, cowboy beans\, biscuits\, and cobbler\, cooked fireside in one of our dutch ovens. \nOur monthly chuckwagon dinner is a family-friendly experience and includes food\, music\, and yard games on First Monday weekends\, rain or shine! Click here to learn more about our Chuckwagon Dinner Experience! \nPurchase Tickets:\nAdult Dinner Tickets: $29.95/per person\nChildren 12 & under: $20/per person \n*Cancellations must be made 24 hours in advance to receive a full refund. \nBooking Instructions: \nChoose your date from the calendar below (available dates are highlighted)\, then the “Book Now” button to start the booking process. Select the amount of adult and child tickets you would like to purchase before continuing through the reservation form.[/et_pb_text][/et_pb_column][/et_pb_row][/et_pb_section]
URL:https://thesilverspurresort.com/event/chuckwagon-dinner/2020-05-30/
LOCATION:Home
ATTACH;FMTTYPE=:
END:VEVENT
END:VCALENDAR